BEGIN:VCALENDAR
VERSION:2.0
PRODID:-//Marguesto Rural Art Festival - ECPv6.15.17.1//NONSGML v1.0//EN
CALSCALE:GREGORIAN
METHOD:PUBLISH
X-ORIGINAL-URL:https://marguesto.com
X-WR-CALDESC:Évènements pour Marguesto Rural Art Festival
REFRESH-INTERVAL;VALUE=DURATION:PT1H
X-Robots-Tag:noindex
X-PUBLISHED-TTL:PT1H
BEGIN:VTIMEZONE
TZID:Europe/Paris
BEGIN:DAYLIGHT
TZOFFSETFROM:+0100
TZOFFSETTO:+0200
TZNAME:CEST
DTSTART:20190331T010000
END:DAYLIGHT
BEGIN:STANDARD
TZOFFSETFROM:+0200
TZOFFSETTO:+0100
TZNAME:CET
DTSTART:20191027T010000
END:STANDARD
BEGIN:DAYLIGHT
TZOFFSETFROM:+0100
TZOFFSETTO:+0200
TZNAME:CEST
DTSTART:20200329T010000
END:DAYLIGHT
BEGIN:STANDARD
TZOFFSETFROM:+0200
TZOFFSETTO:+0100
TZNAME:CET
DTSTART:20201025T010000
END:STANDARD
BEGIN:DAYLIGHT
TZOFFSETFROM:+0100
TZOFFSETTO:+0200
TZNAME:CEST
DTSTART:20210328T010000
END:DAYLIGHT
BEGIN:STANDARD
TZOFFSETFROM:+0200
TZOFFSETTO:+0100
TZNAME:CET
DTSTART:20211031T010000
END:STANDARD
BEGIN:DAYLIGHT
TZOFFSETFROM:+0100
TZOFFSETTO:+0200
TZNAME:CEST
DTSTART:20220327T010000
END:DAYLIGHT
BEGIN:STANDARD
TZOFFSETFROM:+0200
TZOFFSETTO:+0100
TZNAME:CET
DTSTART:20221030T010000
END:STANDARD
END:VTIMEZONE
BEGIN:VEVENT
DTSTART;TZID=Europe/Paris:20210724T190000
DTEND;TZID=Europe/Paris:20210724T233000
DTSTAMP:20260423T103617
CREATED:20210718T095534Z
LAST-MODIFIED:20210718T095534Z
UID:583-1627153200-1627169400@marguesto.com
SUMMARY:Le plan B du Marguesto
DESCRIPTION:
URL:https://marguesto.com/event/le-plan-b-du-marguesto/
LOCATION:Salle des fêtes
END:VEVENT
BEGIN:VEVENT
DTSTART;TZID=Europe/Paris:20200222T180000
DTEND;TZID=Europe/Paris:20200222T180000
DTSTAMP:20260423T103617
CREATED:20200212T231950Z
LAST-MODIFIED:20200212T232643Z
UID:542-1582394400-1582394400@marguesto.com
SUMMARY:Apéro et accueil des bénévoles
DESCRIPTION:
URL:https://marguesto.com/event/apero-et-accueil-des-benevoles/
LOCATION:Salle des aînés\, Place des aînés du coteau fleuri\, AUCAMVILLE\, 82600
END:VEVENT
END:VCALENDAR